BEGIN:VCALENDAR
VERSION:2.0
PRODID:-//https://mnar.ro///NONSGML kigkonsult.se iCalcreator 2.10.15//
METHOD:PUBLISH
BEGIN:VEVENT
UID:20260421T132743EEST-4840F5kWTn@https://mnar.ro/
DTSTAMP:20260421T102743Z
DESCRIPTION:Enjoy the museum and its branches during the Late Opening Progr
 amme on Friday 27th October and Saturday 28th October.\nFriday 27th Octobe
 r\, 10.00 to 21.00 hrs: National Gallery\, K.H. Zambaccian Museum (21 A\, 
 Muzeul Zambaccian St.) and Theodor Pallady Museum (22\, Spătarului St.).\n
 Saturday 28th October\, 10.00 to 21.00 hrs: Art Collections Museum (111\, 
 Calea Victoriei)\, \nLast admission: 20.30\; Admission by ticket. &nbsp\; 
 http://mnar.arts.ro/en/component/rseventspro/event/85-museum-late-opening-
 hours-–-27-and-28-october
DTSTART:20171027T100000Z
DTEND:20171028T210000Z
LOCATION:Muzeul Național de Artă al României (Calea Victoriei 49-53\, Bucur
 ești\, România)
SUMMARY:Museum Late Opening Hours – 27 and 28 October
URL:http://mnar.arts.ro/en/component/rseventspro/event/85-museum-late-openi
 ng-hours-–-27-and-28-october
END:VEVENT
END:VCALENDAR
