BEGIN:VCALENDAR
VERSION:2.0
PRODID:-//https://mnar.ro///NONSGML kigkonsult.se iCalcreator 2.10.15//
METHOD:PUBLISH
BEGIN:VEVENT
UID:20260421T132519EEST-5021AzOGJ2@https://mnar.ro/
DTSTAMP:20260421T102519Z
DESCRIPTION:Our educational programs for the 2024-2025 school year are spec
 ially designed to develop the imagination\, artistic skills\, critical thi
 nking and collaboration skills of the participants. Our offer allows the y
 oung public to observe and discuss artworks of the rich national and inter
 national heritage of MNAR thus gaining important insights into the field o
 f art history.\nThe programs include guided tours. We recommend guided tou
 rs starting with secondary school level.\nPlease register for guided tours
  at least one week in advance by writing to educatie@art.museum.ro\, speci
 fying the desired day and time. The price per group is 150 lei in Romanian
  or 250 lei in English to which the entrance fee is added: 6 lei/child.\nE
 ducational programs for schools take place starting with 10:00 a.m.\, Wedn
 esday to Friday\, at the National Museum of Art of Romania no. 49-53\, Cal
 ea Victoriei\, K.H. Zambaccian Museum\, 21A\, Muzeul Zambaccian Street and
  Theodor Pallady Museum\, 22\, Spătarului Street\, and on Monday and Tuesd
 ay at the Museum of Art Collections no. 111\, Calea Victoriei.\nAppointmen
 ts for workshops are made at least one week in advance at the email addres
 ses indicated under each workshop description\, specifying the name of the
  school\, the number of students\, the desired day and time. Materials for
  each workshop are provided by the museum. Programs duration: between 60 a
 nd 120 minutes. Price: between 15-40 lei/participant (workshop rates inclu
 de access to the museum)\n&nbsp\;\nWorkshops for Pre-school Children\n\nCo
 lored Riddles. Green as the Fir Tree. NEW!\n\nWe explore the meaning of co
 lors in art and popular culture - green\, red\, yellow\, white\, black. We
  participate in an adventure in the vibrant world of colors. We explore ho
 w colors are hidden in riddles\, how they reveal wisdom through proverbs a
 nd how they come to life in the paintings of Romanian artists. We unravel 
 the mysteries of colors\, starting with green - the color of nature. We di
 scover how colors express feelings and thoughts. In the last part of the a
 ctivity\, we will make a graphic creation in the color that makes us happy
 .\nProgram led by AtelierD AssociationPlace: The Modern Romanian Art Galle
 ryDuration: 90 minutesNumber of participants: min 7 – max 30Costs: 40 lei/
 childThe workshop is organized on Wednesdays or Thursdays by request at le
 ast one week in advance at artelierd@yahoo.comAreas of exploration: Drawin
 g\, Painting\, Knowledge of nature\, Romanian language and literature\n\nS
 ecrets of the Garden – flowers\, trees\, insects and fairies NEW!\n\nThis 
 is an interactive program about nature\, art and literature\, with explora
 tions of the garden and the heritage of Theodor Pallady Museum\, followed 
 by creative activities in the studio. We learn about the importance and th
 e role of trees\, flowers and birds in nature\, art and literature\, mytho
 logy and fantastical characters the live in the garden – the gnomes and th
 e fairies. We draw and color mandalas with flowers and butterflies.\nProgr
 am led by AtelierD AssociationPlace: Theodor Pallady Museum\, No 22 Spătar
 ului StreetDuration: 60 minutesNumber of participants: min 7 – max 30Costs
 : 35 lei/childThe workshop is organized on Wednesdays or Thursdays by requ
 est at least one week in advance at artelierd@yahoo.comAreas of exploratio
 n: Drawing\, Painting\, Knowledge of nature\, Romanian language and litera
 ture\n\nArt and Emotions. NEW!\n\nWhat are emotions? How does art make us 
 feel? Can colors influence our mood? We start the journey in the European 
 Art Gallery and explore the connections between art and emotions with the 
 help of colors\, expressions and characters in art works. At the end child
 ren will have the opportunity to create their own work in the studio\, ins
 pired by the works of the great masters\, using colors that bring them joy
 .\nProgram led by the members of Education\, Communication and Cultural Pr
 ograms Department of MNARPlace: The European Art Gallery\, for ages 3 to 6
 Duration: 1 hour 30 minutesNumber of participants: min 7 – max 20Costs: 15
  lei/childThe workshop is organized on request on Wednesdays\, Thursdays o
 r Fridays by registering at least one week in advance at educatie@art.muse
 um.ro.Areas of exploration: Emotional development\, Development of attenti
 on and visual intelligence\, Sensory education\, Painting\n&nbsp\;\nWorksh
 ops for Primary School Children\n\nSecrets of the Garden – flowers\, trees
 \, insects and fairies NEW!\n\nSuitable for the educational activities of 
 the programs: ”Different School Week” and the ”Green Week”\nThis is an int
 eractive program about nature\, art and literature\, with explorations in 
 the garden and the patrimony of Theodor Pallady Museum\, followed by creat
 ive activities in the studio. We learn about the importance and the role o
 f trees\, flowers and birds in nature\, art and literature\, mythology and
  fantastical characters the live in the garden – the gnomes and the fairie
 s. We draw and color mandalas with flowers and butterflies.\nProgram led b
 y AtelierD AssociationPlace: Theodor Pallady Museum\, No 22 Spătarului Str
 eetDuration: 60 minutesNumber of participants: min 7 – max 30Costs: 35 lei
 /childThe workshop is organized on request on Wednesdays\, Thursdays or Fr
 idays by registering at least one week in advance at artelierd@yahoo.comAr
 eas of exploration: Drawing\, Painting\, Knowledge of nature\, Romanian la
 nguage and literature\n\nTreasure Hunt – The Garden of Eden\n\nSuitable fo
 r the educational activities of the programs: ”Different School Week” and 
 the ”Green Week”\nThe workshop involves a treasure hunt in the European Ar
 t Gallery\, to discover and be inspired by famous paintings in which we fi
 nd painted animals and plants. This will be our search goal in order to cr
 eate an artwork on the topic of the Garden of Eden. During the workshop we
  will discover stories from the Genesis and symbols of flora and fauna in 
 artworks such as The Annunciation by Tintoretto\, Bouquet of flowers by Br
 uegel or Flowers in a grotto by Abraham Mignon.\nMixed media: colored cray
 ons and pastels.Program led by Ioana Ciuștea (Șnur SRL.)Place: The Europea
 n Art GalleryDuration: 90 minutesNumber of participants: min 7 – max 30Cos
 ts: 40 lei/childThe workshop is organized on request on Wednesdays\, Thurs
 days or Fridays by registering at least one week in advance at glamourlabo
 ratory@gmail.comAreas of Exploration: Visual Arts\, Fauna and Flora\, Bibl
 e Stories\, Perspective\n\nAbstract or figurative? Composition and represe
 ntation exercises. NEW!\n\nSuitable for the educational activities of the 
 programs: ”Different School Week” and the ”Green Week”\nTogether we will g
 o through the exhibition and discover the works of Modern Romanian artists
  on the border between figurative and abstract. What is an abstract painti
 ng and what is a figurative painting? What can be the border between them?
  We will observe how artists of different generations have solved represen
 tational problems of the 20th and 21st centuries. In the studio we will fi
 nd objects worthy of painting and then transform them into abstract painti
 ng.\nTechnique: Tempera and Watercolor paintingProgram led by the Educatio
 n\, Communications and Cultural Programs DepartmentPlace: The Modern Roman
 ian Art GalleryDuration: 90 minutesNumber of participants: min 7 – max 30C
 osts: 15 lei/childThe workshop is organized on request on Wednesdays\, Thu
 rsdays or Fridays by registering at least one week in advance at educatie@
 art.museum.roAreas of exploration: Visual arts\, Romanian avant-garde\n\nP
 ointillism in Art. NEW!\n\nSuitable for the educational activities of the 
 programs: ”Different School Week” and the ”Green Week”\nStarting from the 
 works of the Romanian pointillist artist Arthur Segal shown in the Romania
 n Modern Art Gallery\, we discover Pointillism as an artistic movement and
  the divisionist technique used by artists. This involves the decompositio
 n of colors and light into a multitude of brushstrokes of pure color\, whi
 ch creates the impression of a mosaic. In the first part of the workshop\,
  we make a sketch in pencil\, where we mention the desired colors\, and in
  the second part we place color in the vein of the artistic trend we have 
 just studied.\nTechnique: Drawing and Tempera painting\nProgram led by Ioa
 na Ciuștea (Șnur SRL.)Place: The Modern Romanian Art GalleryDuration: 90 m
 inutesNumber of participants: min 7 – max 30Costs: 40 lei/childThe worksho
 p is organized on request on Wednesdays\, Thursdays or Fridays by register
 ing at least one week in advance at glamourlaboratory@gmail.comAreas of ex
 ploration: History of art\, Forms of expression in Modern Art\n\nAcanthus 
 leaf – ornament and symbol. NEW!\n\nSuitable for the educational activitie
 s of the programs: ”Different School Week” and the ”Green Week”\nAcanthus 
 is a vegetal ornament used since antiquity in architecture and art\, often
  seen in The Romanian Medieval Art Gallery of NMAR either in goldsmith eng
 raving\, wall paintings\, clothing\, the decoration of church embroidery a
 nd sculptures\, but also in the graphic enrichment of the first books. In 
 the first part of the workshop we learn about the symbolism of the acanthu
 s leaf properties and stylistic varieties\, and in the second part we crea
 te an artwork on this subject\, learning and acquiring notions of graphic 
 art.\nTechnique: Drawing in crayon and charcoalProgram led by Ioana Ciuște
 a (Șnur SRL.)Place: The Romanian Medieval Art GalleryDuration: 90 minutesN
 umber of participants: min 7 – max 30Costs: 40 lei/childThe workshop is or
 ganized on request on Wednesdays\, Thursdays or Fridays by registering at 
 least one week in advance at glamourlaboratory@gmail.comAreas of explorati
 on: Knowledge of nature\, Graphic art\, Decorative art\n\nPicturesque Roma
 nia - In the footsteps of Nicolae Grigorescu NEW!\n\nSuitable for the educ
 ational activities of the programs: ”Different School Week” and the ”Green
  Week”\nWe discover the landscapes painted by Nicolae Grigorescu\, the per
 sonality who had a strong influence on the Romanian painters of the first 
 part of the 20th century. We find on the map the places that he visited an
 d loved and identify the elements of nature that inspired him.\nProgram le
 d by AtelierD AssociationPlace: The Modern Romanian Art Gallery or The Mus
 eum of Art Collections (111\, Calea Victoriei)Duration: 90 minutesNumber o
 f participants: min 7 – max 30Costs: 40 lei/childThe workshop is organized
  on request on Mondays\, Tuesdays\, Wednesdays or Thursdays by registering
  at least one week in advance at artelierd@yahoo.comAreas of exploration: 
 Drawing\, Painting\, Knowledge of nature\n&nbsp\;\nWorkshops for Secondary
  School Children\n\nHow we decipher perspective\n\nSuitable for the educat
 ional activities of the programs: ”Different School Week” \nIn this progra
 m we will discover the architectural elements in the paintings of the Euro
 pean Art Gallery. We will discuss perspective and rhythm in architecture b
 y looking in parallel at the paintings and the spaces in which they are ex
 hibited. At the end of the visit\, all theoretical notions about architect
 ure will come together in a practical activity.\nProgram led by De-a Arhit
 ectura AssociationPlace: The European Art GalleryDuration: 120 minutesNumb
 er of participants: min 7 – max 30Costs: 40 lei/childThe workshop is organ
 ized on request on Thursdays (time interval 13.00 - 15.00) by registering 
 minimum of 2 weeks in advance at https://portal.de-a-arhitectura.ro/main/e
 vents/1635/detailsAreas of exploration: Architecture\, Mathematics\, Visua
 l Arts\, Knowledge of the built environment\n\nSecrets of the Garden – flo
 wers\, trees\, insects and fairies NEW!\n\nSuitable for the educational ac
 tivities of the programs: ”Different School Week” and the ”Green Week”\nTh
 is is an interactive program about nature\, art and literature\, with expl
 orations in the garden and the objects in Theodor Pallady Museum\, followe
 d by creative activities in the studio. We learn about the importance and 
 the role of trees\, flowers and birds in nature\, art and literature\, myt
 hology and fantastical characters the live in the garden – the gnomes and 
 the fairies. We are composing a creative writing piece entitled The Enchan
 ted Garden.\nProgram led by AtelierD AssociationPlace: Theodor Pallady Mus
 eum\, No 22 Spătarului StreetDuration: 90 minutesNumber of participants: m
 in 7 – max 30Costs: 40 lei/childThe workshop is organized on request on We
 dnesdays\, Thursdays or Fridays by registering at least one week in advanc
 e at artelierd@yahoo.comAreas of exploration: Drawing\, Painting\, Knowled
 ge of nature\, Romanian language and literature\n\nPointillism in Art. NEW
 !\n\nSuitable for the educational activities of the programs: ”Different S
 chool Week” and the ”Green Week”\nStarting from the works of the Romanian 
 pointillist artist Arthur Segal\, located in the Romanian Modern Art Galle
 ry\, we discover Pointillism as an artistic movement and the divisionist t
 echnique used by artists. This involves the decomposition of colors and li
 ght\, into a multitude of brushstrokes of pure color\, which creates the i
 mpression of a mosaic. In the first part of the workshop\, we make a sketc
 h in pencil\, where we mention the desired colors\, and in the second part
  we place color in the vein of the artistic trend we have just studied.\nT
 echnique: Drawing and Tempera paintingProgram led by Ioana Ciuștea (ȘNUR S
 RL.)Place: The Modern Romanian Art GalleryDuration: 90 minutesNumber of pa
 rticipants: min 7 – max 30Costs: 40 lei/childThe workshop is organized on 
 request on Wednesdays\, Thursdays or Fridays by registering at least one w
 eek in advance at glamourlaboratory@gmail.comAreas of exploration: History
  of art\, Forms of expression in Modern Art\n\nAcanthus leaf – ornament an
 d symbol. NEW!\n\nSuitable for the educational activities of the programs:
  ”Different School Week” and the ”Green Week”\nAcanthus is a vegetal ornam
 ent used since antiquity is architecture and arts\, often used in The Roma
 nian Medieval Art Gallery of NMAR either in goldsmith engraving\, wall pai
 ntings\, clothing\, the decoration of church embroidery and sculptures\, b
 ut also in the graphic enrichment of the first books. In the first part of
  the workshop we learn about the symbolism of the acanthus leaf properties
  and stylistic varieties\, and in the second part we create an artwork on 
 this subject\, learning and acquiring notions of graphic art.\nTechnique: 
 Drawing in crayon and charcoalProgram led by Ioana Ciuștea (ȘNUR SRL.)Plac
 e: The Romanian Medieval Art GalleryDuration: 90 minutesNumber of particip
 ants: min 7 – max 30Costs: 40 lei/childThe programs are organized on reque
 st on Wednesdays\, Thursdays or Fridays by registering at least one week i
 n advance at glamourlaboratory@gmail.comAreas of exploration: Knowledge of
  nature\, Graphic art\, Decorative art\n\nAbstract or figurative? Composit
 ion and representation exercises. NEW!\n\nSuitable for the educational act
 ivities of the programs: ”Different School Week” and the ”Green Week”\nTog
 ether we will go through the exhibition and discover the works of Modern R
 omanian artists on the border between figurative and abstract. What is an 
 abstract painting and what is a figurative painting? What can be the borde
 r between them? We will observe how artists of different generations have 
 solved representational problems of the 20th and 21st centuries. In the st
 udio we will find objects worthy of painting and then transform them into 
 abstract painting.\nTechnique: Tempera and watercolor paintingProgram led 
 by the Education\, Communications and Cultural Programs DepartmentPlace: T
 he Modern Romanian Art GalleryDuration: 90 minutesNumber of participants: 
 min 7 – max 30Costs: 15 lei/childThe workshop is organized on request on W
 ednesdays\, Thursdays or Fridays by registering at least one week in advan
 ce at educatie@art.museum.roAreas of exploration: Visual arts\, Romanian a
 rt history\n\nHistorical Legends – Characters\, Places\, Things. NEW!\n\nS
 uitable for the educational activities of the program ”Different School We
 ek” \nThrough this program we invite you on a magical historical journey\,
  in the universe of medieval art\, knights and golden books. We will disco
 ver illuminated manuscripts and legends of treasures and bloody battles. W
 e will learn how Neagoe Basarab\, Mircea cel Bătrân\, Constantin Brâncovea
 nu and their families were living. Will create drawings inspired my mediev
 al art works.\nProgram led by AtelierD AssociationPlace: The Romanian Medi
 eval Art GalleryDuration: 90 minutesNumber of participants: min 7 – max 30
 Costs: 15 lei/childThe programs are organized on request on Wednesdays or 
 Thursdays by registering at least one week in advance at artelierd@yahoo.c
 omAreas of exploration: Drawing\, History\, Romanian language and literatu
 re\n&nbsp\;\nActive Visits for High School Students\n\nPeople who bring th
 e future – Avant-garde artists in the Modern Romanian Art Gallery\n\nSuita
 ble for the educational activities of the programs: ”Different School Week
 ” and the ”Green Week”\nHow did avant-garde artists imagine the future of 
 humanity? Have you heard of Cubism\, Futurism\, Dadaism\, Surrealism? Why 
 did these currents exist in international and Romanian art? How do these r
 elate to 20th century history? Why do we use the term avant-garde? Can we 
 create our own avant-garde movement? Based on the works in the room of the
  Romanian Avant-garde\, we think together about the way of life of the art
 ists between the two world wars\, and we imagine\, through exercises and d
 iscussions\, how we can influence the future.\nProgram led by the Educatio
 n\, Communications and Cultural Programs DepartmentPlace: The Modern Roman
 ian Art GalleryDuration: 90 minutesNumber of participants: min 7 – max 30C
 osts: 15 lei/studentThe visit is organized on request on Wednesdays or Thu
 rsdays by registering at least one week before at educatie@art.museum.roAr
 eas of exploration: History of modern art\, Recent history\, Art colonies\
 , Automatic writing\, Ecology\n\nWar and Peace – Representations of War\, 
 Violence and Peace in The Modern Romanian Art Gallery\n\nSuitable for the 
 educational activities of the programs: &nbsp\;”Different School Week” and
  the ”Green Week”\nWhat kind of culture do we live in? How do we relate to
  war and violence? How have artists throughout history viewed these import
 ant themes? What is a war front artist? What are representations of peace?
  The active visit aims to observe and discuss the representation of war\, 
 but also of peace in art\, based on the Modern Romanian Art Collection\, d
 uring several historical periods\, several artists and several ideological
  discourses.\nProgram led by the Education\, Communications and Cultural P
 rograms DepartmentPlace: The Modern Romanian Art GalleryDuration: 90 minut
 esNumber of participants: min 7 – max 30Costs: 15 lei/studentThe visit is 
 organized on request on Wednesdays or Thursdays by registering at least on
 e week in advance at educatie@art.museum.roAreas of exploration: Art Histo
 ry\, Society\, Military History\, Gender Studies http://mnar.arts.ro/en/co
 mponent/rseventspro/event/807-programs-for-schools-and-kindergartens-2024-
 2025
DTSTART:20240927T124224Z
DTEND:20250701T133000Z
LOCATION:Muzeul Național de Artă al României (Calea Victoriei 49-53\, Bucur
 ești\, România)
SUMMARY:Programs for Schools and Kindergartens 2024-2025
URL:http://mnar.arts.ro/en/component/rseventspro/event/807-programs-for-sch
 ools-and-kindergartens-2024-2025
END:VEVENT
END:VCALENDAR
