BEGIN:VCALENDAR
VERSION:2.0
PRODID:-//https://mnar.ro///NONSGML kigkonsult.se iCalcreator 2.10.15//
METHOD:PUBLISH
BEGIN:VEVENT
UID:20260421T132857EEST-0290nM0NVM@https://mnar.ro/
DTSTAMP:20260421T102857Z
DESCRIPTION:The National Museum of Art of Romania invites you to a guided v
 isit at the K.H. Zambaccian Museum (21A Zambaccian Museum Street) on Satur
 day\, April 13\, 2024\, at 5:00 PM. The visit will be conducted by Ilinca 
 Damian\, focusing on the paintings of the master Nicolae Tonitza.\nFamous 
 for his portraits of children with eyes painted 'like mulberries\,' as wel
 l as for his bohemian lifestyle and numerous anecdotes that have ensured e
 mpathy\, interest\, and amusement from collectors\, Tonitza was considered
  by the interwar generation of Bucharest as a local Modigliani. The artist
 's friendship with Zambaccian was marked by disputes and conflicts\, yet i
 t lasted until the artist's untimely death in 1940. You will learn about t
 he history of the K.H. Zambaccian Museum\, the stories behind the painting
 s exhibited in the hall dedicated to Nicolae Tonitza\, as well as other an
 ecdotes about the collector\, the interwar world of Bucharest\, and the tu
 multuous lives of the artists.\nTicket price: 12 lei. http://mnar.arts.ro/
 en/component/rseventspro/event/763-guided-visit-at-the-k-h-zambaccian-muse
 um
DTSTART:20240410T065639Z
DTEND:20240413T155639Z
LOCATION:Muzeul K. H. Zambaccian (Strada Muzeul Zambaccian 21\, București\,
  România)
SUMMARY:Guided Visit at the K.H. Zambaccian Museum
URL:http://mnar.arts.ro/en/component/rseventspro/event/763-guided-visit-at-
 the-k-h-zambaccian-museum
END:VEVENT
END:VCALENDAR
