BEGIN:VCALENDAR
VERSION:2.0
PRODID:-//https://mnar.ro///NONSGML kigkonsult.se iCalcreator 2.10.15//
METHOD:PUBLISH
BEGIN:VEVENT
UID:20260421T133227EEST-7132wtp0PV@https://mnar.ro/
DTSTAMP:20260421T103227Z
DESCRIPTION:Pentru a sărbători împreună Ziua Națională Constantin Brâncuși 
 (19 februarie) la Muzeul Național de Artă al României am pregătit duminică
 \, 18 februarie 2024\, următoarele activități\, la care vă invităm să luaț
 i parte:\nora 11.00 atelierul educativ „Pasărea ascunsă în piatră. Atelier
  dedicat lui Constantin Brâncuși”\, pentru copiii de 6-9 ani\, susținut de
  Ioana Ciuștea\, colaborator MNAR. Înscriere la glamourlaboratory@gmail.co
 m\, cost atelier 40 lei/participant\;\nora 13.30 atelierul educativ „Pasăr
 ea ascunsă în piatră. Atelier dedicat Constantin Brâncuși”\, dedicat copii
 lor de 10-14 ani\, susținut de Ioana Ciuștea\, colaborator MNAR. Înscriere
  la glamourlaboratory@gmail.com\, cost atelier 40 lei/participant\;\nora 1
 5.00 vizită ghidată în Sala Brâncuși din Galeria de Artă Românească Modern
 ă\, susținută de Miruna Moraru\, muzeograf\, Secția Artă Românească Modern
 ă. Înscriere la&nbsp\;&nbsp\;educatie@art.museum.ro\, cost bilet acces gal
 erie 24 lei\;\nora 16.30 vizită ghidată în Sala Brâncuși din Galeria de Ar
 tă Românească Modernă\, susținută de către Delia Popa\, specialist educați
 e\, Secția\, Educație\, Comunicare și Proiecte Culturale. Înscriere la edu
 catie@art.museum.ro\, cost bilet acces galerie 24 lei. http://mnar.arts.ro
 /en/component/rseventspro/event/748-constantin-brancusi-national-day-at-th
 e-national-art-museum-of-romania
DTSTART:20240218T090000Z
DTEND:20240218T153000Z
LOCATION:Muzeul Național de Artă al României (Calea Victoriei 49-53\, Bucur
 ești\, România)
SUMMARY:Constantin Brancusi National Day at the National Art Museum of Roma
 nia
URL:http://mnar.arts.ro/en/component/rseventspro/event/748-constantin-branc
 usi-national-day-at-the-national-art-museum-of-romania
END:VEVENT
END:VCALENDAR
