BEGIN:VCALENDAR
VERSION:2.0
PRODID:-//https://mnar.ro///NONSGML kigkonsult.se iCalcreator 2.10.15//
METHOD:PUBLISH
BEGIN:VEVENT
UID:20260419T164514EEST-0462f5P3H0@https://mnar.ro/
DTSTAMP:20260419T134514Z
DESCRIPTION:Muzeul Național de Artă al României vă invită la un nou evenime
 nt „Întâlnire la muzeu”\, duminică 25 februarie 2024\, ora 16.00\, în cadr
 ul Galeriei de Artă Europeană (Calea Victoriei 49-53). Invitata lui Călin 
 Stegerean este Danielle Van Zadelhoff\, artistă vizuală din Olanda care lu
 crează preponderent cu mediul fotografic.\nDanielle van Zadelhoff s-a născ
 ut în Amsterdam\, Olanda\, iar din anul 2013 lucrează ca artist fotograf p
 rofesionist\, desfășurându-și activitatea în Anvers\, Belgia. Într-o scurt
 ă perioadă de timp a avut numeroase expoziții personale și participări la 
 expoziții de grup și festivaluri în Belgia\, Franța\, Germania\, Olanda\, 
 Italia\, Polonia\, Spania și Marea Britanie. Fotografiile sale au fost inc
 luse în colecții publice și private\, printre care: Musea Brugge (Belgia)\
 , Centro di Ricerca e Archiviazione della Fotografia (Italia)\, Centro de 
 Art Contemporáneo de Málaga (Spania)\, Massachusetts Institute of Technolo
 gy (SUA) și în catedrala istorică Pio Monte della Misericordia (Italia).\n
 Discuția se va desfășura în limba engleză\, cu traducere simultană în limb
 a română\, și va porni de la proiectele de artă fotografică realizate de a
 ceasta\, inspirate de fascinația pentru complexitatea emoțiilor umane. Fot
 ografiile sale transmit o tensiune inspirată de temele esențiale ale vieți
 i\, de la singurătate\, la vulnerabilitate și emoțiile brute pure din viaț
 a cotidiană. Stilul artistic folosit de Danielle van Zadelhoff se remarcă 
 prin utilizarea frecventă a tehnicii clar-obscur\, un efect de modelare pl
 astică a luminii întâlnită pentru prima dată în istoria artei în opera lui
  Leonardo da Vinci\, perfecționată apoi în perioada barocă de reprezentanț
 i de seamă precum Michelangelo Merisi da Caravaggio\, Rembrandt sau George
 s de la Tour.\nDanielle van Zadelhoff lucrează în special cu modele umane\
 , iar majoritatea fotografiilor sale surprind portrete psihologice atent c
 onstruite\, plasate în alte epoci decât cea contemporană. Această caracter
 istică le oferă un aer de atemporalitate\, în dialog cu marii maeștri.\nPe
  durata evenimentului sala în care se va desfășura va fi închisă vizitării
 \, în intervalul orar 16.00-18.00.\n„Întâlnire la Muzeu” este un proiect c
 are își propune să medieze contactul publicului cu personalități din varii
  domenii ale culturii pe subiecte aflate la interferența diverselor genuri
  artistice. Accesul se face în baza biletului în valoare de 12 lei\, fără 
 rezervare prealabilă. Formatul acestui program încurajează intervenția pub
 licului participant cu propriile întrebări și puncte de vedere.\nEveniment
 ul este realizat cu sprijinul Intercontinental Athénée Palace\, Aqua Carpa
 tica\, Domeniile Sâmburești și Revista ArTeVezi. http://mnar.arts.ro/en/co
 mponent/rseventspro/event/742-„întâlnire-la-muzeu”-cu-danielle-van-zadelho
 ff
DTSTART:20240225T140000Z
DTEND:20240225T160000Z
LOCATION:Muzeul Național de Artă al României - Galeria de Artă Europeană ()
SUMMARY:„Întâlnire la Muzeu” cu Danielle van Zadelhoff
URL:http://mnar.arts.ro/en/component/rseventspro/event/742-„întâlnire-la-mu
 zeu”-cu-danielle-van-zadelhoff
END:VEVENT
END:VCALENDAR
