BEGIN:VCALENDAR
VERSION:2.0
PRODID:-//https://mnar.ro///NONSGML kigkonsult.se iCalcreator 2.10.15//
METHOD:PUBLISH
BEGIN:VEVENT
UID:20260421T133146EEST-50845VRgr1@https://mnar.ro/
DTSTAMP:20260421T103146Z
DESCRIPTION:The National Art Museum of Romania (MNAR)\, in partnership with
  the Kontakt Collection and the Bucharest National Dance Center\, invites 
 you to watch a series of original choreographic interventions in the Europ
 ean Art Gallery. They are part of the project 'Collective exhibition for o
 ne body - Private sheet music - Bucharest 2023'\, which will take place be
 tween September 13 and October 1\, 2023\, curated by Pierre Bal-Blanc and 
 choreographed by Manuel Pelmuș.\nOn Wednesday\, September 13\, 2023\, betw
 een 5:00 p.m. and 6:00 p.m.\, there was a special performance for the pres
 s during the opening festivities of the event with Jack Hauser\, Maria Mor
 a\, Cristian Nanculescu\, Adriano Vicente\, in the presence of the curator
  and the choreographer. Then\, for three weeks\, from Wednesday to Sunday\
 , between 14:00 and 18:00\, in all the rooms of the European Art Gallery o
 f the museum\, the works of art will literally come to life thanks to thes
 e carefully coordinated choreographies\, mirroring the characters in the w
 orks of art.\nInitiated at Documenta 14 (Athens and Kassel) in 2017\, itin
 erant to Vienna\, Leuven\, Paris and Lisbon\, the 'Collective Exhibition f
 or a Single Body - Private Score' project will also have a version in Buch
 arest in 2023 through the exhibition at Sala OMNIA ( Bucharest National Da
 nce Center) and choreographies from MNAR.\nThe OMNIA Hall will exhibit wor
 ks by Milan Adamčiak\, Brynjar Åbel Bandlien\, Geta Brătescu\, Anna Daučík
 ová\, VALIE EXPORT\, Stano Filko\, Tomislav Gotovac\, Ion Grigorescu\, San
 ja Iveković\, Anna Jermolaewa\, Július Koller\, Jiří Kovanda\, Katalin Lad
 ik\, Simon Leung \, Karel Miler\, Paul Neagu\, Manuel Pelmuş\, Petr Štembe
 ra\, Mladen Stilinović\, Sven Stilinović\, Slaven Tolj\, Goran Trbuljak\, 
 which will be activated choreographically in connection with the works in 
 the European Art Gallery of the National Art Museum of Romania.\n&nbsp\;\n
  http://mnar.arts.ro/en/component/rseventspro/event/713-choregraphic-inter
 ventions-inspired-by-works-of-art-in-the-mnar-european-art-gallery
DTSTART:20230913T070017Z
DTEND:20231001T170000Z
LOCATION:Muzeul Național de Artă al României - Galeria de Artă Europeană ()
SUMMARY:CHOREGRAPHIC INTERVENTIONS INSPIRED BY WORKS OF ART in the MNAR Eur
 opean Art Gallery
URL:http://mnar.arts.ro/en/component/rseventspro/event/713-choregraphic-int
 erventions-inspired-by-works-of-art-in-the-mnar-european-art-gallery
END:VEVENT
END:VCALENDAR
