BEGIN:VCALENDAR
VERSION:2.0
PRODID:-//https://mnar.ro///NONSGML kigkonsult.se iCalcreator 2.10.15//
METHOD:PUBLISH
BEGIN:VEVENT
UID:20260421T132822EEST-50102J51JX@https://mnar.ro/
DTSTAMP:20260421T102822Z
DESCRIPTION:To mark the European Heritage Days 2023\, the 30th &nbsp\;editi
 on in Romania\, the National Art Museum of Romania offers a special visiti
 ng program on Saturday\, 16 September between 12:00 and 20:00.\nFrom 16:00
  we are waiting for you on a guided visit to the historical spaces in the 
 central body of the former Royal Palace. The guided tour will be supported
  by Amy Bonciu\, MNAR volunteer.\nThe price of a full ticket: 24 lei (to w
 hich discounts and gratuities apply). http://mnar.arts.ro/en/component/rse
 ventspro/event/710-museum-night-european-heritage-days
DTSTART:20230916T090000Z
DTEND:20230916T170000Z
LOCATION:Muzeul Național de Artă al României (Calea Victoriei 49-53\, Bucur
 ești\, România)
SUMMARY:MUSEUM NIGHT - EUROPEAN HERITAGE DAYS
URL:http://mnar.arts.ro/en/component/rseventspro/event/710-museum-night-eur
 opean-heritage-days
END:VEVENT
END:VCALENDAR
