BEGIN:VCALENDAR
VERSION:2.0
PRODID:-//https://mnar.ro///NONSGML kigkonsult.se iCalcreator 2.10.15//
METHOD:PUBLISH
BEGIN:VEVENT
UID:20260421T132558EEST-1698WNNpCM@https://mnar.ro/
DTSTAMP:20260421T102558Z
DESCRIPTION:The exhibition is dedicated to the art from the Neagoe Basarab 
 (1512-1521) period\, marking 500 years since his death. Proposing an unusu
 al reading of his cultural work\, the exhibition highlights the complex pe
 rsonality of the voivode\, author of the first literary writing conceived 
 in Romania: 'Neagoe Basarab's teachings to his son Theodosie'\, founder of
  the Monastery of Curtea de Argeș\, supporter of an artistic patronage cam
 paign\, whose traces can be seen to this day\, all over the world.\nThe di
 splay revolves around icons\, commissioned by Neagoe Basarab five centurie
 s ago and restored for this exhibition. The icons complete the unique ense
 mble of frescoes of the monastery from Curtea de Argeș\, part of the MNAR 
 patrimony\, and illustrate the high standards of the painting school in Wa
 llachia from the beginning of the 16th century.\nThe exhibition scenograph
 y suggests the space invented by Neagoe Basarab's craftsmen and replicated
  in the great voivodship foundations in the Romanian space.\nBeyond the Le
 gend. Neagoe BasarabRomanian Medieval Art GalleryDecember 1\, 2021 - Decem
 ber 31\, 2022Curators: Emanuela Cernea\, Iuliana DumitrașcuCoordinator: Că
 lin Stegerean http://mnar.arts.ro/en/component/rseventspro/event/579-beyon
 d-the-legend-neagoe-basarab
DTSTART:20211201T100000Z
DTEND:20221222T180000Z
LOCATION:Muzeul Național de Artă al României - Galeria de Artă Veche Române
 ască (Calea Victoriei 49-53)
SUMMARY:Beyond the Legend.  Neagoe Basarab
URL:http://mnar.arts.ro/en/component/rseventspro/event/579-beyond-the-legen
 d-neagoe-basarab
END:VEVENT
END:VCALENDAR
