BEGIN:VCALENDAR
VERSION:2.0
PRODID:-//https://mnar.ro///NONSGML kigkonsult.se iCalcreator 2.10.15//
METHOD:PUBLISH
BEGIN:VEVENT
UID:20260421T132652EEST-7409gODRle@https://mnar.ro/
DTSTAMP:20260421T102652Z
DESCRIPTION:We invite you to discover the series of souvenir products that 
 will keep the visit to the National Museum of Art of Romania always fresh 
 in your memory. At the shops and ticket offices of the MNAR museums you wi
 ll find several types of souvenirs that reproduce works of art from the MN
 AR patrimony under the name A Museum for Every Season.\nThe seasons of Pie
 ter Brueghel the Younger or the flowers painted by Stefan Luchian\, Abraha
 m Mignon or Rachel Ruych have replicas on: mugs\, textile bags\, notebooks
 \, puzzles\, lens cleaning cloths\, masks\, mirrors\, magnets\, mobile pho
 ne holders and mouse pads. They are suitable for any season and you can bu
 y them at affordable prices for yourself or gift them.\nBeyond their pract
 ical or symbolic character\, the souvenirs are meant to remind you that th
 e National Museum of Art of Romania is waiting for you in any season. http
 ://mnar.arts.ro/en/component/rseventspro/event/578-a-museum-for-every-seas
 on
DTSTART:20211229T100000Z
DTEND:20221230T180000Z
LOCATION:Muzeul Național de Artă al României (Calea Victoriei 49-53\, Bucur
 ești\, România)
SUMMARY:A Museum for Every Season
URL:http://mnar.arts.ro/en/component/rseventspro/event/578-a-museum-for-eve
 ry-season
END:VEVENT
END:VCALENDAR
