BEGIN:VCALENDAR
VERSION:2.0
PRODID:-//https://mnar.ro///NONSGML kigkonsult.se iCalcreator 2.10.15//
METHOD:PUBLISH
BEGIN:VEVENT
UID:20260421T133137EEST-0601cCAcTh@https://mnar.ro/
DTSTAMP:20260421T103137Z
DESCRIPTION:The National Museum of Art of Romania (MNAR) is taking part for
  the first time in Art Safari\, participating with 11 paintings by Samuel 
 Mützner (1884-1959). The works of art will be included in the exhibition d
 edicated to the artist in the Museum Pavilion Samuel Mützner. Following Cl
 aude Monet.\nA Self-portrait that has become one of the artist’s stylistic
  reference points is among the works that open the exhibition circuit. Pai
 nted in oil on cardboard\, Mützner's self-portrait was probably made in 19
 45 and is distinguished by a balanced composition\, a precise drawing and 
 a chromatic based on earth colors: yellow\, ocher and natural shades.\nThe
  other 10 works from the MNAR’s patrimony that you will be able to admire 
 at Art Safari\, along with other works by Mützner coming from museum and p
 rivate collections are: Landscape from Japan (1914)\, Girl Inside (1929)\,
  Girl in Red (1942) \, Bathing in the Sea (1939)\, Courtyard in Seville (1
 924)\, In the Garden [1935-1940]\, Landscape (1927)\, Woman Sleeping in an
  Armchair (1946)\, Flower Garden [1940]\, A Square in Tulcea [1940-1945 ].
 „It is for the first time that we join the other museums in supporting thi
 s salutary initiative made under the Art Safari name\, aiming to offer a b
 etter understanding and appreciation of the work of Romanian artists” says
  Călin Stegerean\, General Manager at the MNAR.\n***\nThe 8th edition of A
 rt Safari will take place between 16 and 26 September 2021 at the Dacia-Ro
 mania Palace and at Arcub\, Gabroveni Inn (both on Lipscani Street)\, unde
 r the patronage of the Ministry of Culture. The Museum Pavilion Samuel Müt
 zner. Following Claude Monet is located in the Dacia-Romania Palace.\n#See
 YouAtArtSafari http://mnar.arts.ro/en/component/rseventspro/event/544-you-
 can-also-find-us-at-art-safari-at-the-samuel-mützner-following-claude-mone
 t-pavilion
DTSTART:20210917T101814Z
DTEND:20210926T210000Z
LOCATION:Palatul Dacia-România (str. Lipscani 20)
SUMMARY:You can also find us at Art Safari. At the Samuel Mützner. Followin
 g Claude Monet Pavilion
URL:http://mnar.arts.ro/en/component/rseventspro/event/544-you-can-also-fin
 d-us-at-art-safari-at-the-samuel-mützner-following-claude-monet-pavilion
END:VEVENT
END:VCALENDAR
