BEGIN:VCALENDAR
VERSION:2.0
PRODID:-//https://mnar.ro///NONSGML kigkonsult.se iCalcreator 2.10.15//
METHOD:PUBLISH
BEGIN:VEVENT
UID:20260419T163831EEST-1654eM8rL5@https://mnar.ro/
DTSTAMP:20260419T133831Z
DESCRIPTION:Muzeul Naţional de Artă al României vă invită la o nouă conferi
 nță din seria Opere în prim plan. Aceasta va fi susținută în Galeria de Ar
 tă Europeană miercuri\, 6 aprilie\, ora 16.00. Tema va fi reluată sâmbătă\
 , 7 mai\, ora 12.00. Conferințele sunt susținute de Mălina Conțu\, muzeogr
 af în cadrul Biroului de Artă Europeană și Artă Decorativă.\nLucrarea prop
 usă spre expunere în lunile aprilie-mai este una dintre schiţele realizate
  de artistul austriac Gustav Klimt pentru decoraţia plafonului teatrului d
 in Fiume (azi Rijeka\, Croaţia). Aceasta va fi prezentată în contextul ree
 valuării schiţei în decursul secolului al XIX-lea. Realizată în 1885\, luc
 rarea Orfeu și Euridice a fost oferită spre vânzare de Klimt însuşi ca sta
 diu premergător al operei finale unei galerii vieneze\, de unde va fi achi
 ziţionată în 1912 de un colecţionar român.\nPrin seria de conferințe intit
 ulată Opere în prim plan invităm publicul să intre în dialog direct cu ope
 re de pictură şi sculptură mai puţin sau chiar deloc cunoscute din depozit
 ele Secţiei de Artă Europeană. Timp de două luni lucrările selectate vor f
 i expuse în una din sălile galeriei permanente în vederea valorificării lo
 r din perspectiva unor teme diverse (atribuţie\, iconografie\, istoria pie
 sei\, comanditari\, contextul realizării) și în corelație cu lucrările din
  expunere. Prelegerile vor include\, acolo unde este cazul\, detalii legat
 e de restaurarea piesei.\nSchiţă versus lucrare finităGustav Klimt – Orfeu
  şi Euridice\, 1885Galeria de Artă Europeană\, sala 12Miercuri\, 6 aprilie
  2016\, ora 16.00 - Intrare liberăSâmbătă\, 7 mai 2016\, ora 12.00 - Tarif
 : 10 leiÎnscrieri la: programari@art.museum.ro sau 021.314.81.19 http://mn
 ar.arts.ro/en/component/rseventspro/event/40-schiţă-versus-lucrare-finită
DTSTART:20160507T090000Z
DTEND:20160507T100000Z
LOCATION:Muzeul Național de Artă al României (Calea Victoriei 49-53\, Bucur
 ești\, România)
SUMMARY:Schiţă versus lucrare finită
URL:http://mnar.arts.ro/en/component/rseventspro/event/40-schiţă-versus-luc
 rare-finită
END:VEVENT
END:VCALENDAR
