BEGIN:VCALENDAR
VERSION:2.0
PRODID:-//https://mnar.ro///NONSGML kigkonsult.se iCalcreator 2.10.15//
METHOD:PUBLISH
BEGIN:VEVENT
UID:20260419T164041EEST-7540KChJsN@https://mnar.ro/
DTSTAMP:20260419T134041Z
DESCRIPTION:Muzeul Naţional de Artă al Rom&acirc\;niei vă invită la o nouă 
 conferință din seria Opere &icirc\;n prim plan. Aceasta va fi susținută &i
 circ\;n Galeria de Artă Europeană miercuri\, 6 aprilie\, ora 16.00. Tema v
 a fi reluată s&acirc\;mbătă\, 7 mai\, ora 12.00. Conferințele sunt susținu
 te de Mălina Conțu\, muzeograf &icirc\;n cadrul Biroului de Artă Europeană
  și Artă Decorativă.\nLucrarea propusă spre expunere &icirc\;n lunile apri
 lie-mai este una dintre schiţele realizate de artistul austriac Gustav Kli
 mt pentru decoraţia plafonului teatrului din Fiume (azi Rijeka\, Croaţia).
  Aceasta va fi prezentată &icirc\;n contextul reevaluării schiţei &icirc\;
 n decursul secolului al XIX-lea. Realizată &icirc\;n 1885\, lucrarea Orfeu
  și Euridice a fost oferită spre v&acirc\;nzare de Klimt &icirc\;nsuşi ca 
 stadiu premergător al operei finale unei galerii vieneze\, de unde va fi a
 chiziţionată &icirc\;n 1912 de un colecţionar rom&acirc\;n.\nPrin seria de
  conferințe intitulată Opere &icirc\;n prim plan invităm publicul să intre
  &icirc\;n dialog direct cu opere de pictură şi sculptură mai puţin sau ch
 iar deloc cunoscute din depozitele Secţiei de Artă Europeană. Timp de două
  luni lucrările selectate vor fi expuse &icirc\;n una din sălile galeriei 
 permanente &icirc\;n vederea valorificării lor din perspectiva unor teme d
 iverse (atribuţie\, iconografie\, istoria piesei\, comanditari\, contextul
  realizării) și &icirc\;n corelație cu lucrările din expunere. Prelegerile
  vor include\, acolo unde este cazul\, detalii legate de restaurarea piese
 i.\nSchiţă versus lucrare finităGustav Klimt &ndash\; Orfeu şi Euridice\, 
 1885Galeria de Artă Europeană\, sala 12Miercuri\, 6 aprilie 2016\, ora 16.
 00 - Intrare liberăS&acirc\;mbătă\, 7 mai 2016\, ora 12.00 - Tarif: 10 lei
 &Icirc\;nscrieri la: programari@art.museum.ro sau 021.314.81.19 http://mna
 r.arts.ro/en/component/rseventspro/event/22-schiță-versus-lucrare-finită
DTSTART;VALUE=DATE:20160406
LOCATION:Muzeul Național de Artă al României (Calea Victoriei 49-53\, Bucur
 ești\, România)
SUMMARY:Schiță versus lucrare finită
URL:http://mnar.arts.ro/en/component/rseventspro/event/22-schiță-versus-luc
 rare-finită
END:VEVENT
END:VCALENDAR
