BEGIN:VCALENDAR
VERSION:2.0
PRODID:-//https://mnar.ro///NONSGML kigkonsult.se iCalcreator 2.10.15//
METHOD:PUBLISH
BEGIN:VEVENT
UID:20260419T163859EEST-7385rcLWPl@https://mnar.ro/
DTSTAMP:20260419T133859Z
DESCRIPTION:Muzeul Naţional de Artă al Rom&acirc\;niei lansează o nouă seri
 e de conferințe intitulate&nbsp\;Opere &icirc\;n prim plan. Acestea vor fi
  susținute &icirc\;n Galeria de Artă Europeană &icirc\;ncep&acirc\;nd cu d
 ata de&nbsp\;3 februarie 2016\, &icirc\;n miercurea gratuită\, de la&nbsp\
 ;orele 16.00\, tema fiind reluată &icirc\;n data de&nbsp\;5 martie 2016\, 
 de la&nbsp\;orele 12.00. Conferințele sunt susținute de Mălina Conțu\, muz
 eograf &icirc\;n cadrul Biroului de Artă Europeană și Artă Decorativă.\nPr
 in această serie de conferințe invităm publicul să intre &icirc\;n dialog 
 direct cu opere de pictură şi sculptură mai puţin sau chiar deloc cunoscut
 e din depozitele Secţiei de Artă Europeană. Timp de două luni lucrările se
 lectate vor fi expuse &icirc\;n una din sălile galeriei permanente &icirc\
 ;n vederea valorificării lor din perspectiva unor teme diverse (atribuţie\
 , iconografie\, istoria piesei\, comanditari\, contextul realizării) și &i
 circ\;n corelație cu lucrările din expunere. Prelegerile vor include\, aco
 lo unde este cazul\, detalii legate de restaurarea piesei.\n&Icirc\;n luni
 le februarie și martie\, lucrarea care &icirc\;și va spune povestea este&n
 bsp\;Judith țin&acirc\;nd capul lui Holofern&nbsp\;- Anonim după Paolo Ver
 onese\, iar tema conferinței este&nbsp\;Pictura venețiană și estetica relu
 ării.&Icirc\;nt&acirc\;lnirea are loc &icirc\;n a doua sală a Galeriei de 
 Artă Europeană\, acolo unde va fi expusă opera adusă &icirc\;n prim plan.&
 nbsp\;\nPictura venețiană și estetica reluăriiJudith țin&acirc\;nd capul l
 ui Holofern&nbsp\;- Anonim după Paolo VeroneseGaleria de Artă Europeană\, 
 sala a douaMiercuri\, 3 februarie 2016\, ora 16.00 -&nbsp\; Intrare liberă
 S&acirc\;mbătă\, 5 martie 2016\, ora 12.00 -&nbsp\; Tarif: 10 lei&Icirc\;n
 scrieri la:&nbsp\;&nbsp\;programari@art.museum.ro&nbsp\;sau 021.314.81.19 
 http://mnar.arts.ro/en/component/rseventspro/event/13-pictura-venețiană-și
 -estetica-reluării
DTSTART:20160203T160000Z
DTEND:20160305T180000Z
LOCATION:Muzeul Național de Artă al României (Calea Victoriei 49-53\, Bucur
 ești\, România)
SUMMARY:Pictura venețiană și estetica reluării
URL:http://mnar.arts.ro/en/component/rseventspro/event/13-pictura-venețiană
 -și-estetica-reluării
END:VEVENT
END:VCALENDAR
