BEGIN:VCALENDAR
VERSION:2.0
PRODID:-//https://mnar.ro///NONSGML kigkonsult.se iCalcreator 2.10.15//
METHOD:PUBLISH
BEGIN:VEVENT
UID:20260425T155610EEST-3700zGlBfl@https://mnar.ro/
DTSTAMP:20260425T125610Z
DESCRIPTION:Muzeul Național de Artă al României prin Secția de Artă Veche R
 omânească și Institutul de Istoria Artei „George Oprescu” al Academiei Rom
 âne prin Compartimentul de Artă Plastică și Arhitectură din Perioada Medie
 vală organizează cea de-a XIX-a ediție a Sesiunii de comunicări științific
 e „Date noi în cercetarea artei medievale și premoderne din România” în zi
 lele de 20 și 21 aprilie 2023\, în Sufrageria Regală.&nbsp\;\nLucrările vo
 r fi deschise de președintele Secției Arte\, Arhitectură și Audiovizual a 
 Academiei Române\, acad. Cornelia-Sabina Ispas\, alături de directorul gen
 eral al Muzeului Național de Artă al României\, dl. Călin-Alexiu Stegerean
  și de dl. Adrian-Silvan Ionescu\, directorul Institutului de Istoria Arte
 i „G. Oprescu”.\nEvenimentul va reuni istorici de artă\, istorici\, arheol
 ogi și restauratori din prestigioase instituții academice și muzeale din ț
 ară și din străinătate pentru a împărtăși experiențele și rezultatele celo
 r mai recente cercetări din domeniu. Programul celor două zile de comunică
 ri va conține prezentări despre patrimoniul medieval și premodern din cele
  trei provincii istorice și din alte spații geografice aflate în legătură 
 cu Țările Române\, dar și evocări ale unor personalități care au marcat cu
 ltura românească.\nSesiunea de comunicări va avea loc în format hibrid\, p
 utând fi urmărită atât fizic\, din Sufrageria Regală a MNAR\, cât și virtu
 al pe platforma Zoom (I.D. sesiune: 825 1638 5484\; parolă: 670756\, link 
 https://us06web.zoom.us/j/82516385484?pwd=MGJhTkUvc2kyUlB3MW4yQkRaV2pUdz09
 &nbsp\;&nbsp\; ) \n„Sesiunea de comunicări științifice „Date noi în cercet
 area artei medievale și premoderne din România” aduce în atenția specialiș
 tilor și publicului larg rezultatele unor cercetări esențiale pentru spați
 ul cultural românesc ancorat în lunga tradiție bizantină. Muzeul Național 
 de Artă al României este\, prin colecția sa de artă medievală românească ș
 i prin echipa secției sale\, un adevărat laborator pentru înțelegerea apro
 fundată a istoriei noastre naționale”\, apreciază Călin-Alexiu Stegerean\,
  director general al Muzeului Național de Artă al României.\nParticiparea 
 este gratuită. Nu este necesară programarea prealabilă. Accesul se face pr
 in intrarea A3 a Muzeului Național de Artă al României\, în limita a 100 d
 e persoane.\n http://mnar.arts.ro/arhiva-evenimentelor/eveniment/675-comun
 icări-științifice-date-noi-în-cercetarea-artei-medievale-și-premoderne-din
 -românia-ediția-a-xix-a
DTSTART:20230420T063000Z
DTEND:20230421T150000Z
LOCATION:Muzeul Național de Artă al României (Calea Victoriei 49-53\, Bucur
 ești\, România)
SUMMARY:Comunicări științifice - Date noi în cercetarea artei medievale și 
 premoderne din România - Ediția a XIX-a
URL:http://mnar.arts.ro/arhiva-evenimentelor/eveniment/675-comunicări-știin
 țifice-date-noi-în-cercetarea-artei-medievale-și-premoderne-din-românia-ed
 iția-a-xix-a
END:VEVENT
END:VCALENDAR
