BEGIN:VCALENDAR
VERSION:2.0
PRODID:-//https://mnar.ro///NONSGML kigkonsult.se iCalcreator 2.10.15//
METHOD:PUBLISH
BEGIN:VEVENT
UID:20260424T045941EEST-7625iC5VWc@https://mnar.ro/
DTSTAMP:20260424T015941Z
DESCRIPTION:&nbsp\;\nCea mai importantă expoziție a toamnei\, marca Muzeul 
 Național de Artă al României\, Secția de Artă Românească Modernă.\nCurator
 : Monica EnacheOrganizator: MNAR Perioadă: 24 septembrie 2020 - 21 februar
 ie 2021Program de vizitare: miercuri – duminică\, 11.00 – 17.00Preț bilet:
  12 leiMuzeul Național de Artă al României\, Sălile Kretzulescu\nExpoziția
  este organizată cu sprijinul financiar primit de la Asociația „Prietenii 
 Muzeului Național de Artă al României” și cu aportul a peste 15 instituții
 \, muzee și colecții din țară și din străinătate.\nLa împlinirea a 200 de 
 ani de la nașterea lui Constantin Daniel Rosenthal (1820-1851)\, MNAR îi d
 edică artistului o expoziție monografică însoțită de un catalog ce reuneșt
 e toate lucrările sale pe care le-am putut identifica în țară și în străin
 ătate\, unele necunoscute până astăzi.Catalogul conține și toate scrisoril
 e cunoscute până acum adresate de C.D. Rosenthal lui C.A. Rosetti\, păstra
 te în arhive din România – la Biblioteca Academiei Române și Biblioteca Na
 țională.\nMulte dintre acestea au fost descifrate și traduse în premieră c
 u această ocazie. Publicarea integrală a acestor scrisori dezvăluie o lume
  și un stil de viață aproape pierdute pentru omul secolului XXI.\n„De la ‘
 48 am învățat ceea ce ar fi trebuit să învățăm cu mult înainte\, vai\, anu
 me de a începe reforma cu noi înșine\, înainte de a ne amesteca în treburi
 le altora”\, îi scria C.D. Rosenthal prietenului său C.A. Rosetti pe 30 ia
 nuarie 1851.\n© Foto: MNAR\n&nbsp\;\n\n&nbsp\;\n&nbsp\;\n\n\n&nbsp\;\n&nbs
 p\;\n&nbsp\;\nCuvântul managerului interimar\, Cristina VERONA TOBI\, la v
 ernisajul expoziției:\nRomânia revoluţionară:Am început reforma cu noi înş
 ine şi am clădit un destin european\n&nbsp\;\n\nLa aniversarea a 200 de an
 i de la naşterea lui Constantin Daniel Rosenthal\, Muzeul Naţional de Artă
  al României prezintă publicului o expoziţie unică. În an aniversar\, la 7
 0 de ani de la deschiderea Galeriei de Artă Nationala\,&nbsp\;\nMNAR nu av
 ea cum să nu marcheze unasemenea eveniment. MNAR a organizat\, de-a lungul
  timpului\, cele mai importante expoziții din țară și a pus mereu accentul
  pe legătura strânsă dintre artă și evoluția vieții sociale\, politice și 
 culturale.\nÎn 2020\, Echipa MNAR organizează nu doar o expoziție monograf
 ică de excepție\, ci invită la reflecție\, este un bun prilej de a privi r
 etrospectiv la drumul parcurs de societatea noastră pentru a vedea cum a e
 voluat destinul european al României.\nÎn urmă cu 200 de ani\, în Europa a
 veau loc mişcări naţionale\, revoluţii menite să aducă modernizare. Şi pe 
 teritoriul României de azi\, în Ţările Române\, nevoia de modernizare şi d
 e afirmare a conştiinţei naţionale erau puternic resimţite.\nRevoluţia rom
 ână de la 1848 a marcat un moment important în evoluţia destinului unui po
 por şi a unor teritorii care aveau să se unească. În jurul acestui dezider
 at\, al afirmării naţiunii române\, s-au aflat personalităţi marcante ale 
 istoriei precum: Alexandru Ioan Cuza\, Gheorghe Sion\, Alecu Russo\, Lască
 r Rosetti\, Petrache Cazimir\, Vasile Alecsandri\, Costache Negri\, Mihail
  Kogălniceanu\, Alexandru Moruzi\, Nicolae Catargiu\, Vasile Canta și Mari
 a Rosetti\, Ion Heliade Rădulescu\, Nicolae Golescu\, Ștefan Golescu\, Ghe
 orghe Magheru\, C.A. Rosetti\, Nicolae Bălcescu și Ion C. Brătianu.\nConst
 antin Daniel Rosenthal\, născut în 1820 la Pesta\, a fost una din figurile
  excepţionale ale acelor timpuri. A studiat la Academia de arte frumoase d
 in Viena\, iar în 1840 a venit în Principate unde a cunoscut mediul revolu
 ţionarilor români din Ţara Românească. Mediile reformatoare de la acea vre
 me propuneau unirea principatelor\, adoptarea unei constituții liberale și
  o serie de libertăți individuale cu scopul de modernizare. În iunie 1848\
 , are loc revoluţia la Bucureşti. Este citită constituţia revoluţionarilor
  pe Câmpia Filaretului\, imagine plastică sugestivă pe care Rosenthal o tr
 anspune în lucrarea iconica România rupându-şi cătuşele pe Câmpia Libertăţ
 ii.„De la ‘48 am învățat ceea ce ar fi trebuit să învățăm cu mult înainte\
 , vai\, anume de a începe reforma cu noi înșine\, înainte de a ne amesteca
  în treburile altora...Revoluția a intrat în sufletul meu [...] Nu pot cre
 a decât figuri de femei sau de mame pentru a regenera secolul nostru\, pen
 tru a îndrepta corupția\, figuri nobile\, eroice și duioase.” C.D. Rosenth
 al\, Scrisori către C.A. Rosetti\nIstoria ne artă că idealul suprem al pop
 orului român a fost mai puternic şi a învins în faţa tuturor obstacolelor.
  Au urmat decenii de încercări\, file rămase în istorie: 1859 - înfăptuire
 a unirii celor două principate sub Alexandru Ioan Cuza\; 1877 - proclamare
 a independenţei sub principele Carol I\; 1918 – marele vis împlinit\, naşt
 erea României Mari sub Regele Ferdinand şi Regina Maria.\nExpoziţia „Const
 antin Daniel Rosenthal – un artist în vremea revoluţiei” evocă personalita
 tea pictorului\, scoate la lumină lucrări şi o serie de epistole adresate 
 lui C.A. Rosetti\, necunoscute și nepublicate până astăzi. Atmosfera creat
 ă este cea a unei epoci ce impunea reformă si modernizare.\nAzi\, la 200 d
 e ani distanţă\, suntem liberi\, iar România este stat membru în Uniunea E
 uropeană. Am văzut cum\, grației elitelor și tineretului întors de la stud
 ii din străinătate\, revoluția de la 1848 a fost un moment miraculos\, car
 e a adus schimbări înnoitoare și cum\, într-un interval de 50 de ani\, am 
 trecut de la orânduiri de tip feudal la instituții de tip occidental. Aces
 tea au garantat evoluția regatului român și au avut o importanță excepțion
 ală pentru viitorul stat.\nAzi\, continuăm reforma cu noi înşine pentru a 
 menţine destinul european pe care ni l-au croit înaintaşii noştri şi de la
  care nu ne vom abate.\nExpoziția se adresează publicului larg\, publiculu
 i avizat\, deopotrivă\, prin elementele de noutate pe care le prezentăm. T
 otodată\, un public țintă pe care dorim să îl atragem este tânăra generați
 e. Avem ocazia de a explica tinerilor\, corect și cu onestitate\, momentel
 e capitale din istoria noastră. MNAR\, această navă amiral a instituțiilor
  muzeale din țară\, are datoria de a contribui la educarea publicului. Le 
 vom vorbi tinerilor despre valorile în care au crezut și pentru care au lu
 ptat reprezentanții elitei române la 1848\, valori pe care noi le-am moște
 nit și pe care dorim ei să le preia. Expoziția și catalogul sunt mărturia 
 vie al acestui angajament al reînnoirii misiunii noastre ca instituție de 
 cultură.\nEste integral rezultatul muncii\, pasiunii și implicării echipei
  de specialiști ai MNAR și a tuturor colegilor. Sufletul și creierul\, cea
  care a imaginat totul\, este curatorul expoziției\, Monica Enache\, șefa 
 Secției de Artă Românească Modernă a MNAR.\nIar\, cum\, la fel ca în viață
 \, atunci când iți este cel mai greu\, doar prietenii adevărați pășesc pe 
 drum lângă tine\, aceast proiect nu ar fi fost posibil fără sprijinul inte
 gral al Asociației Prietenii MNAR. Mulțumirile noastre se îndreaptă către 
 doamna Ana Maria Mihăescu\, președinte al Asociației\, dar și către toți r
 eprezentanții instituțiilor\, galeriilor\, colecționarilor privați și part
 enerilor media\, reprezentanților statului român\, colegilor\, prietenilor
  care ne-au fost aproape la deschiderea expoziției în data de 23 septembri
 e a.c.\n2020 a fost un an dificil pentru noi toți\, cu atât mai mult prețu
 im fiecare prieten care s-a alăturat pe drumul nostru. În numele echipei M
 NAR\, vă mulțumesc tuturor cât pentru 200 de ani.\n&nbsp\;\n&nbsp\; http:/
 /mnar.arts.ro/arhiva-evenimentelor/eveniment/488-„c-d-rosenthal-un-artist-
 în-vremea-revoluției”-din-24-septembrie-la-mnar
DTSTART:20200924T110000Z
DTEND:20210221T170000Z
LOCATION:Muzeul Naţional de Artă al României\, Sălile Kretzulescu (Calea Vi
 ctoriei 49\, București\, România)
SUMMARY:„C.D. Rosenthal. Un artist în vremea revoluției” - din 24 septembri
 e la MNAR
URL:http://mnar.arts.ro/arhiva-evenimentelor/eveniment/488-„c-d-rosenthal-u
 n-artist-în-vremea-revoluției”-din-24-septembrie-la-mnar
END:VEVENT
END:VCALENDAR
