BEGIN:VCALENDAR
VERSION:2.0
PRODID:-//https://mnar.ro///NONSGML kigkonsult.se iCalcreator 2.10.15//
METHOD:PUBLISH
BEGIN:VEVENT
UID:20260424T045546EEST-1217OOz745@https://mnar.ro/
DTSTAMP:20260424T015546Z
DESCRIPTION:Muzeul Național de Artă al României&nbsp\;organizează în perioa
 da 7-11&nbsp\;septembrie 2020 programul educativ „Toamna ARTfel”\, adresat
  copiilor cu vârste între 7-12&nbsp\;ani.&nbsp\;\nPe perioada celor 5 zile
 \, copiii vor porni într-o&nbsp\; aventură la Palatul Regal și vor descope
 ri câteva&nbsp\;&nbsp\;dintre „secretele” acestuia.\nDupă atâtea luni în c
 are cei mici s-au dezobișnuit\, probabil\, de activități educaționale orga
 nizate\, conform unui program structurat\, vă propunem să îi ajutăm să își
  reintre treptat în ritm cu o serie de ateliere planificate de MNAR chiar 
 în săptămâna de dinainte de începerea noului an școlar.\nPentru: Copii cu 
 vârste între 7-12 aniCând: 7-11 septembrie 2020\, orele 10:30-13:00Unde: a
 er liber (Curtea de Onoare MNAR)\, atelier\, &nbsp\;Spațiile Istorice ale 
 fostului Palat Regal și galeriile permanente.&nbsp\;Accesul se face din Ca
 lea Victoriei 49-53.Număr de participanți: 15 copiiPreț: 150 lei (pentru t
 oate cele cinci zile)\nProgram:Luni\, 7 septembrie 2020 – Istoria Palatulu
 i\, 10.30-13.00Marți\, 8 septembrie 2020 – Statuile din Curtea de Onoare\,
  10.30-13.00Miercuri\, 9 septembrie 2020 – Să pictăm cu fructe și legume !
 \, 10.30-13.00Joi\, 10 septembrie 2020 – Peisaj citadin\, 10.30-13.00Viner
 i\, 11 septembrie 2020 – Lucrarea-mozaic\, 10.30-13.00\n&nbsp\;\nIMPORTANT
 \nVă rugăm să aveți în vedere faptul că atelierele se vor desfășura cu res
 pectarea măsurilor de prevenție a infectării cu noul coronavirus COVID-19.
 &nbsp\;Copiilor li se va măsura temperatura și&nbsp\;li se va pune la disp
 oziție dezinfectant\, iar purtarea măștii de protecție este obligatorie pe
  toată durata atelierelor. Acestea se vor desfășura cu respectarea distanț
 ării între participanți.\nPAȘI PENTRU ÎNSCRIERE\n1. Completarea&nbsp\;form
 ularului de înscriere2. Efectuarea plății până în data de 4 septembrie cel
  târziu\nDETALII PENTRU PLATĂ\nPrețul programului pentru toate cele cinci 
 zile este de 150 lei/ copil. Înscrierea copiilor se face în baza&nbsp\;con
 firmării plății\, care poate fi efectuată prin transfer bancar sau la casa
  de bilete de la Galeria de Artă Europeană\, după cum urmează:\n1. Pentru&
 nbsp\;plată prin transfer bancar:MUZEUL NATIONAL DE ARTA AL ROMANIEICOD FI
 SCAL 4602084CONT BANCAR RO67 TREZ 7012 0G33 0800 XXXXTREZORERIA SECTOR 1 B
 UCURESTIDetalii plată: înscriere [nume copil] - Toamna ARTfel\n2. Pentru p
 lata la&nbsp\;casa de bilete a MNAR (intrarea de la Galeria de Artă Europe
 ană)\, programul este: miercuri-duminică\, orele 11.00-17.00.\nVă rugăm să
  ne trimiteți pe email la adresa educatie@art.museum.ro&nbsp\; confirmarea
  plății (dovada tranzacției sau scan/ fotografie a facturii primită de la 
 casierie)\, până pe data de 4 septembrie 2020. http://mnar.arts.ro/arhiva-
 evenimentelor/eveniment/487-toamna-artfel-la-mnar-program-educativ-pentru-
 copii
DTSTART:20200907T103000Z
DTEND:20200911T130000Z
LOCATION:Muzeul Național de Artă al României (Calea Victoriei 49-53\, Bucur
 ești\, România)
SUMMARY:Toamna ARTfel la MNAR - program educativ pentru copii
URL:http://mnar.arts.ro/arhiva-evenimentelor/eveniment/487-toamna-artfel-la
 -mnar-program-educativ-pentru-copii
END:VEVENT
END:VCALENDAR
