BEGIN:VCALENDAR
VERSION:2.0
PRODID:-//https://mnar.ro///NONSGML kigkonsult.se iCalcreator 2.10.15//
METHOD:PUBLISH
BEGIN:VEVENT
UID:20260424T045707EEST-89892FroKd@https://mnar.ro/
DTSTAMP:20260424T015707Z
DESCRIPTION:Muzeul Național de Artă al României și Institutul Polonez din B
 ucurești prezintă publicului bucureștean\, într-un loc simbolic pentru rom
 âni\, o expoziție despre istoria sindicatului „Solidaritatea” din Polonia 
 anului 1989.\nExpoziția A 40-a aniversare a revoluției Solidaritatea\, pre
 gătită în versiunea în limba română de Institutul Polonez din București\, 
 poate fi văzută pe gardul MNAR de pe Calea Victoriei nr. 49-53 din Bucureș
 ti\, între 24 august și 10 septembrie 2020\, iar apoi\, până la sfârșitul 
 lunii septembrie\, pe gardul Muzeul Colecțiilor de Artă din Calea Victorie
 i nr. 111.\nCondusă de „Solidaritatea” prin metode pașnice\, revoluția din
  1980 a dus la căderea comunismului în Polonia în vara anului 1989. De ase
 menea\, a provocat o avalanșă care a afectat întregul așa-numit bloc estic
  și s-a încheiat cu căderea Zidului Berlinului\, iar mai târziu cu sfârșit
 ul dictaturii lui Nicolae Ceaușescu în România.Sindicatul Independent Auto
 cefal „Solidaritatea” a fost înregistrat oficial la 17 septembrie 1980\, d
 atorită unui val mare de greve muncitorești\, și a adunat în momentul său 
 de vârf 10 milioane de polonezi. Sindicatul a dat speranță pentru o viață 
 demnă\, mai bună\, în libertate. http://mnar.arts.ro/arhiva-evenimentelor/
 eveniment/486-a-40-a-aniversare-a-revoluției-solidaritatea
DTSTART:20200827T063751Z
DTEND:20200930T180000Z
LOCATION:Muzeul Național de Artă al României (Calea Victoriei 49-53\, Bucur
 ești\, România)
SUMMARY:A 40-a aniversare a revoluției Solidaritatea
URL:http://mnar.arts.ro/arhiva-evenimentelor/eveniment/486-a-40-a-aniversar
 e-a-revoluției-solidaritatea
END:VEVENT
END:VCALENDAR
