BEGIN:VCALENDAR
VERSION:2.0
PRODID:-//https://mnar.ro///NONSGML kigkonsult.se iCalcreator 2.10.15//
METHOD:PUBLISH
BEGIN:VEVENT
UID:20260424T045806EEST-6483RCzzOK@https://mnar.ro/
DTSTAMP:20260424T015806Z
DESCRIPTION:Muzeul Național de Artă al României\, împreună cu Academia de A
 rte din Gdansk şi Universitatea Naţională de Arte din Bucureşti&nbsp\;prez
 intă o nouă expoziție temporară.&nbsp\;\nProiectul TRANSFORMATION. From Bu
 charest to Gdansk. From Gdansk to Bucharest\, iniţiat de Academia de Arte 
 din Gdansk\, propune o perspectivă concentrată asupra specificităţii şi id
 entităţii picturii central şi est europene și face parte dintr-o serie de 
 expoziţii realizate în colaborare cu academii şi universităţi de artă din 
 spaţiul geografic de interes.\nAcademia de Arte din Gdansk şi Universitate
 a Naţională de Arte din Bucureşti sunt două dintre instituţiile de învăţăm
 ânt artistic cu tradiţie\, care alături de Muzeul Național de Artă al Româ
 niei\, contribuie prin diverse moduri la dezvoltarea vieţii artistice din 
 spaţiul central şi est european. Atât de diferite în aparenţă\, felul de a
  vedea şi a înţelege arta – polonez şi român – descoperă\, nu fără surpriz
 ă\, multe afinităţi şi puncte comune.\nArtişti expozanţi: Ion ANGHEL\, Cez
 ar ATODIRESEI\, Cătălin BĂLESCU\, Jarosław BAUĆ\, Traian BOLDEA\, Marcel B
 UNEA\, Daniel CYBULSKI\, Roman GAJEWSKI\, Krzysztof GLISZCZYŃSKI\, Filip I
 gnatowicz\, Aleksandra JADCZUK\, Piotr JÓZEFOWICZ\, Andrzej KARMASZ\, Jace
 k KORNACKI\, Sławomir LIPNICKI\, Petru LUCACI\, Przemysław ŁOPACIŃSKI\, Ge
 orge MOSCAL\, Mateusz PĘK\, Jakub PIELESZEK\, Alexandru RĂDVAN\, Anna REIN
 ERT\, Mihai SÂRBULESCU\, Andrei SIMION\, Robert SOCHACKI\, Arkadiusz SYLWE
 STROWICZ\, Teodor ȘTEFAN\, Andrei TUDORAN\, Anna WALIGÓRSKA\, Aleksander W
 IDYŃSKI\, Marek WRZESIŃSKI\, Marcin ZAWICKI\, Jacek ZDYBEL.\nEchipa curato
 rială: Judit BALINT\, Piotr JÓZEFOWICZ\, Alexandru RĂDVAN\nExpoziția poate
  fi vizitată de joi\, 20 august de la ora 11.00\, cu respectarea măsurilor
  muzeului pentru prevenirea răspândirii noului coronavirus SARS COV-2.\n20
  august – 1 noiembrie 2020Parterul Galeriei Naționale\,Muzeul Național de 
 Artă al RomânieiProgram: miercuri-duminică\, 11 – 17.Bilet: 10 lei http://
 mnar.arts.ro/arhiva-evenimentelor/eveniment/485-transformation-from-buchar
 est-to-gdansk-from-gdansk-to-bucharest
DTSTART:20200820T061432Z
DTEND:20201101T081432Z
LOCATION:Muzeul Naţional de Artă al României\, parterul Galeriei Naţionale 
 (Calea Victoriei 49\, București\, România)
SUMMARY:TRANSFORMATION. From Bucharest to Gdansk. From Gdansk to Bucharest
URL:http://mnar.arts.ro/arhiva-evenimentelor/eveniment/485-transformation-f
 rom-bucharest-to-gdansk-from-gdansk-to-bucharest
END:VEVENT
END:VCALENDAR
