BEGIN:VCALENDAR
VERSION:2.0
PRODID:-//https://mnar.ro///NONSGML kigkonsult.se iCalcreator 2.10.15//
METHOD:PUBLISH
BEGIN:VEVENT
UID:20260424T045549EEST-831597gSbl@https://mnar.ro/
DTSTAMP:20260424T015549Z
DESCRIPTION:Vă invităm să descoperiți noile trasee ARTfel propuse de MNAR p
 entru o vizită la muzeu în familie.\nÎn perioada următoare\, vom lansa săp
 tămânal un nou traseu tematic care vă va ajuta să redescoperiți muzeul din
  noi perspective ARTfel.\nPrimul traseu este dedicat zeilor și eroilor pe 
 care îi întâlnim în lucrările din Galeria de Artă Europeană și poate fi ac
 cesat aici.\nAcest traseu tematic vă va purta prin întreaga Galerie de Art
 ă Europeană\, punând sub lupă patru lucrări cu tematică mitologică.\nPe pa
 rcursul celor patru opriri\, cei mici (dar și părinții lor) vor afla lucru
 ri interesante despre zeii și eroii din lucrările propuse și se vor putea 
 distra realizând activitățile special gândite pentru ei: colorat\, desenat
 \, joc de roluri\, vânătoare de indicii și alte surprize care îi vor încân
 ta. Pentru a vă bucura din plin vă sfătuim să veniți cu bloc de desen și c
 reioane colorate.\nDescărcați traseul pe telefon sau tipăriți-l înainte de
  vizita la muzeu și veniți la MNAR să petreceți timp de calitate în famili
 e. Puteți solicita un traseu tipărit și de la casieria Galeriei de Artă Eu
 ropeană.\nPS: Dacă ați încercat traseul și v-a plăcut\, spuneți-ne și nouă
 ! Faceți o poză în timpul vizitei și trimiteți-ne-o ca mesaj privat sau po
 stați-o pe conturile dumneavoastră de Facebook/ Instagram\, cu unul din ha
 shtagurile:&nbsp\;#traseeMNAR\, #traseeARTfel #zeisieroi\nVă așteptăm în f
 amilie la MNAR! http://mnar.arts.ro/arhiva-evenimentelor/eveniment/484-des
 coperă-traseele-artfel-de-la-mnar
DTSTART:20200801T093452Z
DTEND:20201231T113452Z
LOCATION:Muzeul Național de Artă al României (Calea Victoriei 49-53\, Bucur
 ești\, România)
SUMMARY:Descoperă traseele ARTfel de la MNAR
URL:http://mnar.arts.ro/arhiva-evenimentelor/eveniment/484-descoperă-trasee
 le-artfel-de-la-mnar
END:VEVENT
END:VCALENDAR
